BEGIN:VCALENDAR
VERSION:2.0
PRODID:icalendar-ruby
CALSCALE:GREGORIAN
BEGIN:VTIMEZONE
TZID:Europe/London
END:VTIMEZONE
BEGIN:VEVENT
DTSTAMP:20260408T091557Z
UID:lrug-monthly-2026-04
DTSTART;TZID=Europe/London:20260413T180000
DTEND;TZID=Europe/London:20260413T200000
DESCRIPTION:London Ruby User Group - April 2026 Meeting\n\nHosted by: Vonag
 e\n
LOCATION:London\, UK
SUMMARY:London Ruby User Group - April 2026 Meeting
URL;VALUE=URI:https://lrug.org/meetings/2026/april/
END:VEVENT
BEGIN:VEVENT
DTSTAMP:20260408T091557Z
UID:lrug-monthly-2026-03
DTSTART;TZID=Europe/London:20260309T180000
DTEND;TZID=Europe/London:20260309T200000
DESCRIPTION:London Ruby User Group - March 2026 Meeting\n\nHosted by: Inter
 com\n
LOCATION:London\, UK
SUMMARY:London Ruby User Group - March 2026 Meeting
URL;VALUE=URI:https://lrug.org/meetings/2026/march/
END:VEVENT
BEGIN:VEVENT
DTSTAMP:20260408T091557Z
UID:lrug-monthly-2026-02
DTSTART;TZID=Europe/London:20260209T180000
DTEND;TZID=Europe/London:20260209T200000
DESCRIPTION:London Ruby User Group - February 2026 Meeting\n\nHosted by: Ca
 rwow new\n
LOCATION:London\, UK
SUMMARY:London Ruby User Group - February 2026 Meeting
URL;VALUE=URI:https://lrug.org/meetings/2026/february/
END:VEVENT
BEGIN:VEVENT
DTSTAMP:20260408T091557Z
UID:lrug-monthly-2026-01
DTSTART;TZID=Europe/London:20260112T180000
DTEND;TZID=Europe/London:20260112T200000
DESCRIPTION:London Ruby User Group - January 2026 Meeting\n\nHosted by: Opu
 s Recruitment Solutions\n
LOCATION:London\, UK
SUMMARY:London Ruby User Group - January 2026 Meeting
URL;VALUE=URI:https://lrug.org/meetings/2026/january/
END:VEVENT
BEGIN:VEVENT
DTSTAMP:20260408T091557Z
UID:lrug-monthly-2025-12
DTSTART;TZID=Europe/London:20251208T180000
DTEND;TZID=Europe/London:20251208T200000
DESCRIPTION:London Ruby User Group - December 2025 Meeting\n\nHosted by: In
 tercom\n
LOCATION:London\, UK
SUMMARY:London Ruby User Group - December 2025 Meeting
URL;VALUE=URI:https://lrug.org/meetings/2025/december/
END:VEVENT
BEGIN:VEVENT
DTSTAMP:20260408T091557Z
UID:lrug-monthly-2025-11
DTSTART;TZID=Europe/London:20251110T180000
DTEND;TZID=Europe/London:20251110T200000
DESCRIPTION:London Ruby User Group - November 2025 Meeting\n\nHosted by: Bo
 ard Intelligence\n
LOCATION:London\, UK
SUMMARY:London Ruby User Group - November 2025 Meeting
URL;VALUE=URI:https://lrug.org/meetings/2025/november/
END:VEVENT
BEGIN:VEVENT
DTSTAMP:20260408T091557Z
UID:lrug-monthly-2025-10
DTSTART;TZID=Europe/London:20251013T180000
DTEND;TZID=Europe/London:20251013T200000
DESCRIPTION:London Ruby User Group - October 2025 Meeting\n\nHosted by: Blo
 om & Wild\n
LOCATION:London\, UK
SUMMARY:London Ruby User Group - October 2025 Meeting
URL;VALUE=URI:https://lrug.org/meetings/2025/october/
END:VEVENT
BEGIN:VEVENT
DTSTAMP:20260408T091557Z
UID:lrug-monthly-2025-09
DTSTART;TZID=Europe/London:20250915T180000
DTEND;TZID=Europe/London:20250915T200000
DESCRIPTION:London Ruby User Group - September 2025 Meeting\n\nHosted by: V
 onage\n
LOCATION:London\, UK
SUMMARY:London Ruby User Group - September 2025 Meeting
URL;VALUE=URI:https://lrug.org/meetings/2025/september/
END:VEVENT
BEGIN:VEVENT
DTSTAMP:20260408T091557Z
UID:lrug-monthly-2025-08
DTSTART;TZID=Europe/London:20250811T180000
DTEND;TZID=Europe/London:20250811T200000
DESCRIPTION:London Ruby User Group - August 2025 Meeting\n\nHosted by: Cleo
 \n
LOCATION:London\, UK
SUMMARY:London Ruby User Group - August 2025 Meeting
URL;VALUE=URI:https://lrug.org/meetings/2025/august/
END:VEVENT
BEGIN:VEVENT
DTSTAMP:20260408T091557Z
UID:lrug-monthly-2025-07
DTSTART;TZID=Europe/London:20250714T180000
DTEND;TZID=Europe/London:20250714T200000
DESCRIPTION:London Ruby User Group - July 2025 Meeting\n\nHosted by: Cleo\n
LOCATION:London\, UK
SUMMARY:London Ruby User Group - July 2025 Meeting
URL;VALUE=URI:https://lrug.org/meetings/2025/july/
END:VEVENT
BEGIN:VEVENT
DTSTAMP:20260408T091557Z
UID:lrug-monthly-2025-06
DTSTART;TZID=Europe/London:20250609T180000
DTEND;TZID=Europe/London:20250609T200000
DESCRIPTION:London Ruby User Group - June 2025 Meeting\n\nHosted by: judge.
 me\n
LOCATION:London\, UK
SUMMARY:London Ruby User Group - June 2025 Meeting
URL;VALUE=URI:https://lrug.org/meetings/2025/june/
END:VEVENT
BEGIN:VEVENT
DTSTAMP:20260408T091557Z
UID:lrug-monthly-2025-05
DTSTART;TZID=Europe/London:20250512T180000
DTEND;TZID=Europe/London:20250512T200000
DESCRIPTION:London Ruby User Group - May 2025 Meeting\n\nHosted by: SPACE4\
 n
LOCATION:London\, UK
SUMMARY:London Ruby User Group - May 2025 Meeting
URL;VALUE=URI:https://lrug.org/meetings/2025/may/
END:VEVENT
BEGIN:VEVENT
DTSTAMP:20260408T091557Z
UID:lrug-monthly-2025-04
DTSTART;TZID=Europe/London:20250414T180000
DTEND;TZID=Europe/London:20250414T200000
DESCRIPTION:London Ruby User Group - April 2025 Meeting\n\nHosted by: Board
  Intelligence\n
LOCATION:London\, UK
SUMMARY:London Ruby User Group - April 2025 Meeting
URL;VALUE=URI:https://lrug.org/meetings/2025/april/
END:VEVENT
END:VCALENDAR

